BEGIN:VCALENDAR
VERSION:2.0
PRODID:-//Squarespace Inc/Squarespace 6//v6//EN
BEGIN:VEVENT
UID:5db17ebca7103e0e94f22068@squarespace.com
DTSTAMP:20191024T104621Z
DTSTART:20200815T130000Z
DTEND:20200816T210000Z
SUMMARY:2020 National Championships
GEO:-33.891167;151.19175
LOCATION:Sydney University Sports & Aquatic Centre\, 85 Darlington Road\, D
 arlington\, NSW\, 2008\, Australia
END:VEVENT
END:VCALENDAR
