BEGIN:VCALENDAR
VERSION:2.0
PRODID:-//Squarespace Inc/Squarespace 6//v6//EN
BEGIN:VEVENT
UID:5db17fd5c56ee01af77b4265@squarespace.com
DTSTAMP:20191024T104547Z
DTSTART:20200531T120000Z
DTEND:20200531T210000Z
SUMMARY:2020 NSW Championships
GEO:-33.891167;151.19175
LOCATION:Sydney University Sports and Aquatic Centre\, 85 Darlington Road\, 
 Darlington\, NSW\, 2008\, Australia
END:VEVENT
END:VCALENDAR
